BEGIN:VCALENDAR
VERSION:2.0
PRODID:-//Business Helping Business (BHB) - ECPv6.15.12.2//NONSGML v1.0//EN
CALSCALE:GREGORIAN
METHOD:PUBLISH
X-WR-CALNAME:Business Helping Business (BHB)
X-ORIGINAL-URL:https://bhbwny.com
X-WR-CALDESC:Events for Business Helping Business (BHB)
REFRESH-INTERVAL;VALUE=DURATION:PT1H
X-Robots-Tag:noindex
X-PUBLISHED-TTL:PT1H
BEGIN:VTIMEZONE
TZID:America/New_York
BEGIN:DAYLIGHT
TZOFFSETFROM:-0500
TZOFFSETTO:-0400
TZNAME:EDT
DTSTART:20220313T070000
END:DAYLIGHT
BEGIN:STANDARD
TZOFFSETFROM:-0400
TZOFFSETTO:-0500
TZNAME:EST
DTSTART:20221106T060000
END:STANDARD
BEGIN:DAYLIGHT
TZOFFSETFROM:-0500
TZOFFSETTO:-0400
TZNAME:EDT
DTSTART:20230312T070000
END:DAYLIGHT
BEGIN:STANDARD
TZOFFSETFROM:-0400
TZOFFSETTO:-0500
TZNAME:EST
DTSTART:20231105T060000
END:STANDARD
BEGIN:DAYLIGHT
TZOFFSETFROM:-0500
TZOFFSETTO:-0400
TZNAME:EDT
DTSTART:20240310T070000
END:DAYLIGHT
BEGIN:STANDARD
TZOFFSETFROM:-0400
TZOFFSETTO:-0500
TZNAME:EST
DTSTART:20241103T060000
END:STANDARD
END:VTIMEZONE
BEGIN:VEVENT
DTSTART;TZID=America/New_York:20230712T160000
DTEND;TZID=America/New_York:20230712T173000
DTSTAMP:20260420T065532
CREATED:20230411T160059Z
LAST-MODIFIED:20230411T160059Z
UID:6701-1689177600-1689183000@bhbwny.com
SUMMARY:BHB Member Meeting
DESCRIPTION:
URL:https://bhbwny.com/event/bhb-member-meeting-49/
LOCATION:NY
END:VEVENT
BEGIN:VEVENT
DTSTART;TZID=America/New_York:20230726T160000
DTEND;TZID=America/New_York:20230726T173000
DTSTAMP:20260420T065532
CREATED:20230411T160345Z
LAST-MODIFIED:20230411T160345Z
UID:6703-1690387200-1690392600@bhbwny.com
SUMMARY:BHB Member Meeting
DESCRIPTION:
URL:https://bhbwny.com/event/bhb-member-meeting-50/
LOCATION:NY
END:VEVENT
END:VCALENDAR