BEGIN:VCALENDAR
VERSION:2.0
PRODID:-//Business Helping Business (BHB) - ECPv6.15.12.2//NONSGML v1.0//EN
CALSCALE:GREGORIAN
METHOD:PUBLISH
X-ORIGINAL-URL:https://bhbwny.com
X-WR-CALDESC:Events for Business Helping Business (BHB)
REFRESH-INTERVAL;VALUE=DURATION:PT1H
X-Robots-Tag:noindex
X-PUBLISHED-TTL:PT1H
BEGIN:VTIMEZONE
TZID:America/New_York
BEGIN:DAYLIGHT
TZOFFSETFROM:-0500
TZOFFSETTO:-0400
TZNAME:EDT
DTSTART:20210314T070000
END:DAYLIGHT
BEGIN:STANDARD
TZOFFSETFROM:-0400
TZOFFSETTO:-0500
TZNAME:EST
DTSTART:20211107T060000
END:STANDARD
BEGIN:DAYLIGHT
TZOFFSETFROM:-0500
TZOFFSETTO:-0400
TZNAME:EDT
DTSTART:20220313T070000
END:DAYLIGHT
BEGIN:STANDARD
TZOFFSETFROM:-0400
TZOFFSETTO:-0500
TZNAME:EST
DTSTART:20221106T060000
END:STANDARD
BEGIN:DAYLIGHT
TZOFFSETFROM:-0500
TZOFFSETTO:-0400
TZNAME:EDT
DTSTART:20230312T070000
END:DAYLIGHT
BEGIN:STANDARD
TZOFFSETFROM:-0400
TZOFFSETTO:-0500
TZNAME:EST
DTSTART:20231105T060000
END:STANDARD
END:VTIMEZONE
BEGIN:VEVENT
DTSTART;TZID=America/New_York:20220209T160000
DTEND;TZID=America/New_York:20220209T173000
DTSTAMP:20260421T111549
CREATED:20220103T181748Z
LAST-MODIFIED:20220103T181748Z
UID:6545-1644422400-1644427800@bhbwny.com
SUMMARY:BHB Member Meeting
DESCRIPTION:Attention please attend the BHB meetings at your discretion.  If you are feeling ill\, tested positive for COVID-19 \, or have a legitimate concern about close contact with COVID 19 please excuse yourself from the meeting(s). If this is the case please email board@bhbwny.com as far in advance as possible.  While participating in meetings and or events held or sponsored by Business Helping Business of Western New York (“BHB”)\, consistent with CDC guidelines\, participants are encouraged to practice hand hygiene\, “social distancing” and wear face coverings to reduce the risks of exposure to COVID-19.  BHB member attendance to scheduled meetings and events remain voluntary during the COVID-19 pandemic.
URL:https://bhbwny.com/event/bhb-member-meeting-21/
LOCATION:NY
END:VEVENT
BEGIN:VEVENT
DTSTART;TZID=America/New_York:20220223T160000
DTEND;TZID=America/New_York:20220223T173000
DTSTAMP:20260421T111549
CREATED:20220103T181838Z
LAST-MODIFIED:20220103T181838Z
UID:6548-1645632000-1645637400@bhbwny.com
SUMMARY:BHB Member Meeting
DESCRIPTION:
URL:https://bhbwny.com/event/bhb-member-meeting-22/
LOCATION:NY
END:VEVENT
END:VCALENDAR