BEGIN:VCALENDAR
VERSION:2.0
PRODID:-//Business Helping Business (BHB) - ECPv6.15.12.2//NONSGML v1.0//EN
CALSCALE:GREGORIAN
METHOD:PUBLISH
X-ORIGINAL-URL:https://bhbwny.com
X-WR-CALDESC:Events for Business Helping Business (BHB)
REFRESH-INTERVAL;VALUE=DURATION:PT1H
X-Robots-Tag:noindex
X-PUBLISHED-TTL:PT1H
BEGIN:VTIMEZONE
TZID:America/New_York
BEGIN:DAYLIGHT
TZOFFSETFROM:-0500
TZOFFSETTO:-0400
TZNAME:EDT
DTSTART:20200308T070000
END:DAYLIGHT
BEGIN:STANDARD
TZOFFSETFROM:-0400
TZOFFSETTO:-0500
TZNAME:EST
DTSTART:20201101T060000
END:STANDARD
BEGIN:DAYLIGHT
TZOFFSETFROM:-0500
TZOFFSETTO:-0400
TZNAME:EDT
DTSTART:20210314T070000
END:DAYLIGHT
BEGIN:STANDARD
TZOFFSETFROM:-0400
TZOFFSETTO:-0500
TZNAME:EST
DTSTART:20211107T060000
END:STANDARD
BEGIN:DAYLIGHT
TZOFFSETFROM:-0500
TZOFFSETTO:-0400
TZNAME:EDT
DTSTART:20220313T070000
END:DAYLIGHT
BEGIN:STANDARD
TZOFFSETFROM:-0400
TZOFFSETTO:-0500
TZNAME:EST
DTSTART:20221106T060000
END:STANDARD
END:VTIMEZONE
BEGIN:VEVENT
DTSTART;TZID=America/New_York:20210505T160000
DTEND;TZID=America/New_York:20210505T173000
DTSTAMP:20260422T015340
CREATED:20210324T182942Z
LAST-MODIFIED:20210324T182942Z
UID:6398-1620230400-1620235800@bhbwny.com
SUMMARY:BHB Member Meeting (Returning to Inviting Guests)
DESCRIPTION:After a month of being back in person\, we will begin to encourage members to invite guests again.  Please email board@bhbwny.com with anticipated guests so we can prepare accordingly. \nBob Marcus is presenting on Commercial Real Estate in the Buffalo area
URL:https://bhbwny.com/event/bhb-member-meeting-returning-to-inviting-guests/
LOCATION:NY
END:VEVENT
BEGIN:VEVENT
DTSTART;TZID=America/New_York:20210519T160000
DTEND;TZID=America/New_York:20210519T173000
DTSTAMP:20260422T015340
CREATED:20210324T183330Z
LAST-MODIFIED:20210324T183330Z
UID:6400-1621440000-1621445400@bhbwny.com
SUMMARY:BHB Member Meeting
DESCRIPTION:
URL:https://bhbwny.com/event/bhb-member-meeting-6/
LOCATION:NY
END:VEVENT
END:VCALENDAR