BEGIN:VCALENDAR
VERSION:2.0
PRODID:-//Business Helping Business (BHB) - ECPv6.15.12.2//NONSGML v1.0//EN
CALSCALE:GREGORIAN
METHOD:PUBLISH
X-WR-CALNAME:Business Helping Business (BHB)
X-ORIGINAL-URL:https://bhbwny.com
X-WR-CALDESC:Events for Business Helping Business (BHB)
REFRESH-INTERVAL;VALUE=DURATION:PT1H
X-Robots-Tag:noindex
X-PUBLISHED-TTL:PT1H
BEGIN:VTIMEZONE
TZID:America/New_York
BEGIN:DAYLIGHT
TZOFFSETFROM:-0500
TZOFFSETTO:-0400
TZNAME:EDT
DTSTART:20220313T070000
END:DAYLIGHT
BEGIN:STANDARD
TZOFFSETFROM:-0400
TZOFFSETTO:-0500
TZNAME:EST
DTSTART:20221106T060000
END:STANDARD
BEGIN:DAYLIGHT
TZOFFSETFROM:-0500
TZOFFSETTO:-0400
TZNAME:EDT
DTSTART:20230312T070000
END:DAYLIGHT
BEGIN:STANDARD
TZOFFSETFROM:-0400
TZOFFSETTO:-0500
TZNAME:EST
DTSTART:20231105T060000
END:STANDARD
BEGIN:DAYLIGHT
TZOFFSETFROM:-0500
TZOFFSETTO:-0400
TZNAME:EDT
DTSTART:20240310T070000
END:DAYLIGHT
BEGIN:STANDARD
TZOFFSETFROM:-0400
TZOFFSETTO:-0500
TZNAME:EST
DTSTART:20241103T060000
END:STANDARD
END:VTIMEZONE
BEGIN:VEVENT
DTSTART;TZID=America/New_York:20230810T160000
DTEND;TZID=America/New_York:20230810T200000
DTSTAMP:20260420T065605
CREATED:20230630T131815Z
LAST-MODIFIED:20230630T131815Z
UID:6748-1691683200-1691697600@bhbwny.com
SUMMARY:BHB Picnic - Cheektowaga Town Park
DESCRIPTION:Facility Use Conditions (per Cheektowaga Parks/Facilities Dept)\n\nYou are responsible for your group and/or party’s actions and conduct during your reservation. Your present and future reservation requests may be canceled if any of the following occur: fighting\, unseemly conduct\, health violations\, abuse of staff or property\, illegal parking\, or failure to remit payment.\nYour group must assume responsibility for providing adequate supervision\, facility cleanliness and general order while using the facility.\nNo beer tricks allowed\nDamage and/or destruction of the property(s)  will result in repair and/or replacement costs billed\nin all circumstances\, the Organization retains full authority for final approval and denial of facility reservation requests\nNo Refunds Given. The Town is not responsible for inclement weather. Park hours are 7am – 8pm\nShelters cannot be used for profit making ventures\nshould any challenges as to the authenticity of this permit by another group or individual\, please contact the Parks Department at 656-2280 between the hours of 7am – 11am.
URL:https://bhbwny.com/event/bhb-picnic-cheektowaga-town-park/
LOCATION:NY
END:VEVENT
END:VCALENDAR