BEGIN:VCALENDAR
VERSION:2.0
PRODID:-//Business Helping Business (BHB) - ECPv6.15.12.2//NONSGML v1.0//EN
CALSCALE:GREGORIAN
METHOD:PUBLISH
X-WR-CALNAME:Business Helping Business (BHB)
X-ORIGINAL-URL:https://bhbwny.com
X-WR-CALDESC:Events for Business Helping Business (BHB)
REFRESH-INTERVAL;VALUE=DURATION:PT1H
X-Robots-Tag:noindex
X-PUBLISHED-TTL:PT1H
BEGIN:VTIMEZONE
TZID:America/New_York
BEGIN:DAYLIGHT
TZOFFSETFROM:-0500
TZOFFSETTO:-0400
TZNAME:EDT
DTSTART:20200308T070000
END:DAYLIGHT
BEGIN:STANDARD
TZOFFSETFROM:-0400
TZOFFSETTO:-0500
TZNAME:EST
DTSTART:20201101T060000
END:STANDARD
BEGIN:DAYLIGHT
TZOFFSETFROM:-0500
TZOFFSETTO:-0400
TZNAME:EDT
DTSTART:20210314T070000
END:DAYLIGHT
BEGIN:STANDARD
TZOFFSETFROM:-0400
TZOFFSETTO:-0500
TZNAME:EST
DTSTART:20211107T060000
END:STANDARD
BEGIN:DAYLIGHT
TZOFFSETFROM:-0500
TZOFFSETTO:-0400
TZNAME:EDT
DTSTART:20220313T070000
END:DAYLIGHT
BEGIN:STANDARD
TZOFFSETFROM:-0400
TZOFFSETTO:-0500
TZNAME:EST
DTSTART:20221106T060000
END:STANDARD
END:VTIMEZONE
BEGIN:VEVENT
DTSTART;TZID=America/New_York:20211103T160000
DTEND;TZID=America/New_York:20211103T173000
DTSTAMP:20260421T173506
CREATED:20211012T140508Z
LAST-MODIFIED:20211012T140508Z
UID:6478-1635955200-1635960600@bhbwny.com
SUMMARY:BHB Mandatory Roll Call Member Meeting
DESCRIPTION:
URL:https://bhbwny.com/event/bhb-mandatory-roll-call-member-meeting/
LOCATION:NY
END:VEVENT
END:VCALENDAR