BEGIN:VCALENDAR
VERSION:2.0
PRODID:-//Business Helping Business (BHB) - ECPv6.15.12.2//NONSGML v1.0//EN
CALSCALE:GREGORIAN
METHOD:PUBLISH
X-ORIGINAL-URL:https://bhbwny.com
X-WR-CALDESC:Events for Business Helping Business (BHB)
REFRESH-INTERVAL;VALUE=DURATION:PT1H
X-Robots-Tag:noindex
X-PUBLISHED-TTL:PT1H
BEGIN:VTIMEZONE
TZID:America/New_York
BEGIN:DAYLIGHT
TZOFFSETFROM:-0500
TZOFFSETTO:-0400
TZNAME:EDT
DTSTART:20200308T070000
END:DAYLIGHT
BEGIN:STANDARD
TZOFFSETFROM:-0400
TZOFFSETTO:-0500
TZNAME:EST
DTSTART:20201101T060000
END:STANDARD
BEGIN:DAYLIGHT
TZOFFSETFROM:-0500
TZOFFSETTO:-0400
TZNAME:EDT
DTSTART:20210314T070000
END:DAYLIGHT
BEGIN:STANDARD
TZOFFSETFROM:-0400
TZOFFSETTO:-0500
TZNAME:EST
DTSTART:20211107T060000
END:STANDARD
BEGIN:DAYLIGHT
TZOFFSETFROM:-0500
TZOFFSETTO:-0400
TZNAME:EDT
DTSTART:20220313T070000
END:DAYLIGHT
BEGIN:STANDARD
TZOFFSETFROM:-0400
TZOFFSETTO:-0500
TZNAME:EST
DTSTART:20221106T060000
END:STANDARD
END:VTIMEZONE
BEGIN:VEVENT
DTSTART;TZID=America/New_York:20210310T163000
DTEND;TZID=America/New_York:20210310T180000
DTSTAMP:20260422T073315
CREATED:20210225T135906Z
LAST-MODIFIED:20210225T135906Z
UID:6382-1615393800-1615399200@bhbwny.com
SUMMARY:BHBWNY Hybrid Meeting
DESCRIPTION:The next meeting is scheduled for Wednesday\, March 10th allowing for both an in-person and virtual format. A meeting invite will be sent shortly once we confirm the location. \nFor non-members that want to be included\, please click on “JOIN US” above!
URL:https://bhbwny.com/event/bhbwny-hybrid-meeting/
LOCATION:NY
END:VEVENT
END:VCALENDAR